BEGIN:VCALENDAR
VERSION:2.0
PRODID:-//Spiel&#039;ma - ECPv6.15.15//NONSGML v1.0//EN
CALSCALE:GREGORIAN
METHOD:PUBLISH
X-WR-CALNAME:Spiel&#039;ma
X-ORIGINAL-URL:https://www.spielma.at
X-WR-CALDESC:Veranstaltungen für Spiel&#039;ma
REFRESH-INTERVAL;VALUE=DURATION:PT1H
X-Robots-Tag:noindex
X-PUBLISHED-TTL:PT1H
BEGIN:VTIMEZONE
TZID:Europe/Vienna
BEGIN:DAYLIGHT
TZOFFSETFROM:+0100
TZOFFSETTO:+0200
TZNAME:CEST
DTSTART:20220327T010000
END:DAYLIGHT
BEGIN:STANDARD
TZOFFSETFROM:+0200
TZOFFSETTO:+0100
TZNAME:CET
DTSTART:20221030T010000
END:STANDARD
BEGIN:DAYLIGHT
TZOFFSETFROM:+0100
TZOFFSETTO:+0200
TZNAME:CEST
DTSTART:20230326T010000
END:DAYLIGHT
BEGIN:STANDARD
TZOFFSETFROM:+0200
TZOFFSETTO:+0100
TZNAME:CET
DTSTART:20231029T010000
END:STANDARD
BEGIN:DAYLIGHT
TZOFFSETFROM:+0100
TZOFFSETTO:+0200
TZNAME:CEST
DTSTART:20240331T010000
END:DAYLIGHT
BEGIN:STANDARD
TZOFFSETFROM:+0200
TZOFFSETTO:+0100
TZNAME:CET
DTSTART:20241027T010000
END:STANDARD
END:VTIMEZONE
BEGIN:VEVENT
DTSTART;TZID=Europe/Vienna:20231008T100000
DTEND;TZID=Europe/Vienna:20231008T170000
DTSTAMP:20260420T115410
CREATED:20230908T134126Z
LAST-MODIFIED:20230908T134126Z
UID:1685-1696759200-1696784400@www.spielma.at
SUMMARY:Hexenmarkt Unterkagererhof
DESCRIPTION:Hexenmarkt Unterkagererhof in Auberg. Spielma Holzspielzeug aus dem Mühlviertel. \nDer beliebte Hexenmarkt am Unterkagererhof in Auberg\nfindet immer im Oktober statt.\nBei gemütlicher Atmospäre können Sie mit der ganzen Familie\neinen schönen Tag erleben: \n\nStandlmarkt\nAltertümliche Musik\nKinderprogramm\nAstrologin\nKartenlegerin\nHistorische Tanzgruppe\nKulinarische Köstlichkeiten\nusw.\n\nUmragt von einer verzauberten Herbstlandschaft schmiegen sich Kleinkünstler\, fahrende Händler\, Wahrsagerinnen und Kräuterhexen an diesen Hof und bieten ihre Waren feil. \nAls wäre es seit Jahrhunderten schon so\, fühlt man sich sofort in die Zeit des Mittelalters zurückversetzt. Und wäre es nie anders gewesen\, streifen diese Hexen um ihre Besucher und verzaubern sie mit einem gar eigentümlichen Flair. \nEin gemütliches Flanieren durch die Markstände mit Angeboten rund um Kräuter- und Räucherwaren\, Kunsthandwerk\, allerlei Dekoratives und Kreatives ist garantiert. \nDenn neben verschiedensten Waren\, egal ob Kreatives für Küche und Garten\, Kunsthandwerk\, „Hexenmedizin“ sowie Nützliches und Schönes\,\nlässt auch das kulinarische Angebot keine Wünsche offen. \nEin Leckerbissen sind die gebackenen Mäuse\, die direkt in der alten Bauernstube am Holzofen gebacken werden.\nDer Durst kann in der Hexentränke mit einem Schluck Hexentrunk gestillt werden. \nAuch der Nachwuchs kommt nicht zu kurz. Ob Bogenschießen\, Gaukler\, oder Zauberer\, für jeden Geschmack ist etwas dabei. \nIn eine Zeit zurückversetzt\, in der man noch an Drachen\, Magier und Hexen glaubte und verzaubert wurde\, kann man an diesem einen besonderen Sonntag dem Alltag entfliehen. \nZufrieden\, relaxt und von einer großartigen Stimmung verzaubert\, verlassen die Besucher den Markt um sich bereits auf ein Wiedersehen zu freuen. \nEin gemütlicher und spannender Tag für die ganze Familie ist garantiert.
URL:https://www.spielma.at/event/hexenmarkt-unterkagererhof/
LOCATION:monika_aschauer
ATTACH;FMTTYPE=:
END:VEVENT
END:VCALENDAR